BEGIN:VCALENDAR
VERSION:2.0
PRODID:-//BuildingBlocksGame //NONSGML Events //EN
CALSCALE:GREGORIAN
X-WR-CALNAME:BuildingBlocksGame
BEGIN:VEVENT
CREATED:20220109T215007Z
UID:3183
DTSTAMP:20260421T081259Z
DTSTART;TZID=Europe/Amsterdam:20220123T153000
DTEND;TZID=Europe/Amsterdam:20220123T160000
LOCATION:
DESCRIPTION:
SUMMARY:Muziek
ORGANIZER:BuildingBlocksGame
URL;VALUE=URI:https://buildingblocksgame.com/nl/competition-round/muziek/
TRANSP:OPAQUE
END:VEVENT
END:VCALENDAR
