BEGIN:VCALENDAR
VERSION:2.0
PRODID:-//BuildingBlocksGame //NONSGML Events //EN
CALSCALE:GREGORIAN
X-WR-CALNAME:BuildingBlocksGame
BEGIN:VEVENT
CREATED:20220916T073433Z
UID:4358
DTSTAMP:20260422T101037Z
DTSTART;TZID=Europe/Amsterdam:20220929T233000
DTEND;TZID=Europe/Amsterdam:20220930T000000
LOCATION:
DESCRIPTION:
SUMMARY:Klussen/verbouwen
ORGANIZER:BuildingBlocksGame
URL;VALUE=URI:https://buildingblocksgame.com/nl/competition-round/klussen-verbouwen/
TRANSP:OPAQUE
END:VEVENT
END:VCALENDAR
