BEGIN:VCALENDAR
VERSION:2.0
PRODID:-//BuildingBlocksGame //NONSGML Events //EN
CALSCALE:GREGORIAN
X-WR-CALNAME:BuildingBlocksGame
BEGIN:VEVENT
CREATED:20220916T073433Z
UID:4358
DTSTAMP:20260422T101103Z
DTSTART;TZID=Europe/Amsterdam:20220928T213000
DTEND;TZID=Europe/Amsterdam:20220928T220000
LOCATION:
DESCRIPTION:
SUMMARY:Klussen/verbouwen
ORGANIZER:BuildingBlocksGame
URL;VALUE=URI:https://buildingblocksgame.com/nl/competition-round/klussen-verbouwen/
TRANSP:OPAQUE
END:VEVENT
END:VCALENDAR
