BEGIN:VCALENDAR
VERSION:2.0
PRODID:-//BuildingBlocksGame //NONSGML Events //EN
CALSCALE:GREGORIAN
X-WR-CALNAME:BuildingBlocksGame
BEGIN:VEVENT
CREATED:20221011T102402Z
UID:4445
DTSTAMP:20260422T083929Z
DTSTART;TZID=Europe/Amsterdam:20221027T223000
DTEND;TZID=Europe/Amsterdam:20221027T230000
LOCATION:
DESCRIPTION:
SUMMARY:Spreekwoorden en gezegdes
ORGANIZER:BuildingBlocksGame
URL;VALUE=URI:https://buildingblocksgame.com/nl/competition-round/spreekwoorden-en-gezegdes/
TRANSP:OPAQUE
END:VEVENT
END:VCALENDAR
