BEGIN:VCALENDAR
VERSION:2.0
PRODID:-//BuildingBlocksGame //NONSGML Events //EN
CALSCALE:GREGORIAN
X-WR-CALNAME:BuildingBlocksGame
BEGIN:VEVENT
CREATED:20211128T135054Z
UID:2477
DTSTAMP:20260421T094401Z
DTSTART;TZID=Europe/Amsterdam:20211210T153000
DTEND;TZID=Europe/Amsterdam:20211210T160000
LOCATION:
DESCRIPTION:
SUMMARY:Reizen
ORGANIZER:BuildingBlocksGame
URL;VALUE=URI:https://buildingblocksgame.com/nl/competition-round/reizen/
TRANSP:OPAQUE
END:VEVENT
END:VCALENDAR
