BEGIN:VCALENDAR
VERSION:2.0
PRODID:-//BuildingBlocksGame //NONSGML Events //EN
CALSCALE:GREGORIAN
X-WR-CALNAME:BuildingBlocksGame
BEGIN:VEVENT
CREATED:20230909T211240Z
UID:5949
DTSTAMP:20260421T100112Z
DTSTART;TZID=Europe/Amsterdam:20231008T233000
DTEND;TZID=Europe/Amsterdam:20231009T000000
LOCATION:
DESCRIPTION:
SUMMARY:In het nieuws
ORGANIZER:BuildingBlocksGame
URL;VALUE=URI:https://buildingblocksgame.com/nl/competition-round/in-het-nieuws/
TRANSP:OPAQUE
END:VEVENT
END:VCALENDAR
