BEGIN:VCALENDAR
VERSION:2.0
PRODID:-//BuildingBlocksGame //NONSGML Events //EN
CALSCALE:GREGORIAN
X-WR-CALNAME:BuildingBlocksGame
BEGIN:VEVENT
CREATED:20250214T181509Z
UID:6654
DTSTAMP:20260419T181353Z
DTSTART;TZID=Europe/Amsterdam:20250221T232900
DTEND;TZID=Europe/Amsterdam:20250221T235900
LOCATION:
DESCRIPTION:
SUMMARY:Under the sea
ORGANIZER:BuildingBlocksGame
URL;VALUE=URI:https://buildingblocksgame.com/nl/competition-round/under-the-sea/
TRANSP:OPAQUE
END:VEVENT
END:VCALENDAR
