BEGIN:VCALENDAR
VERSION:2.0
PRODID:-//BuildingBlocksGame //NONSGML Events //EN
CALSCALE:GREGORIAN
X-WR-CALNAME:BuildingBlocksGame
BEGIN:VEVENT
CREATED:20250324T101351Z
UID:7007
DTSTAMP:20260419T181415Z
DTSTART;TZID=Europe/Amsterdam:20250407T002900
DTEND;TZID=Europe/Amsterdam:20250407T005900
LOCATION:
DESCRIPTION:
SUMMARY:Speed
ORGANIZER:BuildingBlocksGame
URL;VALUE=URI:https://buildingblocksgame.com/nl/competition-round/speed/
TRANSP:OPAQUE
END:VEVENT
END:VCALENDAR
